0.2500000000
0.0000000000
0.0000000000
-0.2500000000
513000.1250000000
7520999.8750000000
