0.2500000000
0.0000000000
0.0000000000
-0.2500000000
510000.1250000000
7517999.8750000000
