0.2500000000
0.0000000000
0.0000000000
-0.2500000000
336000.1250000000
6137999.8750000000
