0.2500000000
0.0000000000
0.0000000000
-0.2500000000
333000.1250000000
6134999.8750000000
