0.2500000000
0.0000000000
0.0000000000
-0.2500000000
327000.1250000000
6140999.8750000000
