0.2500000000
0.0000000000
0.0000000000
-0.2500000000
597000.1250000000
6719999.8750000000
