0.2500000000
0.0000000000
0.0000000000
-0.2500000000
594000.1250000000
6710999.8750000000
