0.2500000000
0.0000000000
0.0000000000
-0.2500000000
591000.1250000000
6722999.8750000000
