0.2500000000
0.0000000000
0.0000000000
-0.2500000000
588000.1250000000
6725999.8750000000
