0.2500000000
0.0000000000
0.0000000000
-0.2500000000
582000.1250000000
6731999.8750000000
