0.0750000000
0.0000000000
0.0000000000
-0.0750000000
399047.5875000000
7777899.4124999996
