0.0750000000
0.0000000000
0.0000000000
-0.0750000000
396047.4375000000
7779899.5125000002
