0.0750000000
0.0000000000
0.0000000000
-0.0750000000
402047.7375000000
7780899.5625000000
