0.0750000000
0.0000000000
0.0000000000
-0.0750000000
403047.7875000000
7781899.6124999998
