0.0750000000
0.0000000000
0.0000000000
-0.0750000000
400047.6375000000
7781899.6124999998
