0.0750000000
0.0000000000
0.0000000000
-0.0750000000
402047.7375000000
7782899.6624999996
