0.3
0
0
-0.3
453800.15
3940799.85
