0.3
0
0
-0.3
447800.15
3922799.85
