0.3
0
0
-0.3
444800.15
3904799.85
