0.3
0
0
-0.3
441800.15
3985799.85
