0.3
0
0
-0.3
441800.15
3979799.85
