0.3
0
0
-0.3
438800.15
3973799.85
