0.3
0
0
-0.3
438800.15
3967799.85
