0.3
0
0
-0.3
435800.15
3973799.85
