0.3
0
0
-0.3
432800.15
3979799.85
