0.3
0
0
-0.3
426800.15
3943799.85
