0.3
0
0
-0.3
423800.15
4042799.85
