0.3
0
0
-0.3
420800.15
4009799.85
