0.3
0
0
-0.3
420800.15
3937799.85
