0.3
0
0
-0.3
417800.15
3937799.85
