0.3
0
0
-0.3
414800.15
4063799.85
