0.3
0
0
-0.3
411800.15
4018799.85
