0.3
0
0
-0.3
408800.15
4027799.85
