0.3
0
0
-0.3
408800.15
3976799.85
