0.3
0
0
-0.3
405800.15
4087799.85
