0.3
0
0
-0.3
405800.15
4066799.85
