0.3
0
0
-0.3
402800.15
4012799.85
