0.3
0
0
-0.3
402800.15
3916799.85
