0.3
0
0
-0.3
399800.15
4003799.85
