0.3
0
0
-0.3
399800.15
3877799.85
