0.3
0
0
-0.3
396800.15
3889799.85
