0.3
0
0
-0.3
393800.15
3973799.85
