0.3
0
0
-0.3
384800.15
4000799.85
