0.3
0
0
-0.3
375800.15
3868799.85
