0.3
0
0
-0.3
372800.15
3982799.85
