0.3
0
0
-0.3
369800.15
3919799.85
