0.3
0
0
-0.3
366800.15
3934799.85
