0.3
0
0
-0.3
363800.15
3883799.85
