0.3
0
0
-0.3
360800.15
4006799.85
