0.3
0
0
-0.3
360800.15
3934799.85
